BEGIN:VCALENDAR
VERSION:2.0
PRODID:-//Wellsville Country Club - ECPv6.15.17//NONSGML v1.0//EN
CALSCALE:GREGORIAN
METHOD:PUBLISH
X-ORIGINAL-URL:https://www.wellsvillecc.com
X-WR-CALDESC:Events for Wellsville Country Club
REFRESH-INTERVAL;VALUE=DURATION:PT1H
X-Robots-Tag:noindex
X-PUBLISHED-TTL:PT1H
BEGIN:VTIMEZONE
TZID:America/New_York
BEGIN:DAYLIGHT
TZOFFSETFROM:-0500
TZOFFSETTO:-0400
TZNAME:EDT
DTSTART:20160313T070000
END:DAYLIGHT
BEGIN:STANDARD
TZOFFSETFROM:-0400
TZOFFSETTO:-0500
TZNAME:EST
DTSTART:20161106T060000
END:STANDARD
BEGIN:DAYLIGHT
TZOFFSETFROM:-0500
TZOFFSETTO:-0400
TZNAME:EDT
DTSTART:20170312T070000
END:DAYLIGHT
BEGIN:STANDARD
TZOFFSETFROM:-0400
TZOFFSETTO:-0500
TZNAME:EST
DTSTART:20171105T060000
END:STANDARD
BEGIN:DAYLIGHT
TZOFFSETFROM:-0500
TZOFFSETTO:-0400
TZNAME:EDT
DTSTART:20180311T070000
END:DAYLIGHT
BEGIN:STANDARD
TZOFFSETFROM:-0400
TZOFFSETTO:-0500
TZNAME:EST
DTSTART:20181104T060000
END:STANDARD
END:VTIMEZONE
BEGIN:VEVENT
DTSTART;TZID=America/New_York:20170611T000000
DTEND;TZID=America/New_York:20170611T000000
DTSTAMP:20260425T101343
CREATED:20170425T150122Z
LAST-MODIFIED:20170425T150122Z
UID:674-1497139200-1497139200@www.wellsvillecc.com
SUMMARY:GVCS Alumni - 1:30pm shotgun
DESCRIPTION:
URL:https://www.wellsvillecc.com/event/gvcs-alumni-130pm-shotgun/
END:VEVENT
BEGIN:VEVENT
DTSTART;TZID=America/New_York:20170610T133000
DTEND;TZID=America/New_York:20170610T133000
DTSTAMP:20260425T101343
CREATED:20170425T150122Z
LAST-MODIFIED:20170425T150122Z
UID:672-1497101400-1497101400@www.wellsvillecc.com
SUMMARY:American Legion/ Fred Magee
DESCRIPTION:
URL:https://www.wellsvillecc.com/event/american-legion-fred-magee/
END:VEVENT
BEGIN:VEVENT
DTSTART;TZID=America/New_York:20170609T090000
DTEND;TZID=America/New_York:20170609T090000
DTSTAMP:20260425T101343
CREATED:20170425T150121Z
LAST-MODIFIED:20170425T150121Z
UID:671-1496998800-1496998800@www.wellsvillecc.com
SUMMARY:Alfred University
DESCRIPTION:
URL:https://www.wellsvillecc.com/event/alfred-university/
END:VEVENT
BEGIN:VEVENT
DTSTART;TZID=America/New_York:20170608T173000
DTEND;TZID=America/New_York:20170608T173000
DTSTAMP:20260425T101343
CREATED:20170425T150121Z
LAST-MODIFIED:20170425T150121Z
UID:670-1496943000-1496943000@www.wellsvillecc.com
SUMMARY:Thirsty Thursday Start
DESCRIPTION:
URL:https://www.wellsvillecc.com/event/thirsty-thursday-start-2/
END:VEVENT
BEGIN:VEVENT
DTSTART;TZID=America/New_York:20170607T153000
DTEND;TZID=America/New_York:20170607T153000
DTSTAMP:20260425T101343
CREATED:20170425T150121Z
LAST-MODIFIED:20170425T150121Z
UID:669-1496849400-1496849400@www.wellsvillecc.com
SUMMARY:Dresser Rand
DESCRIPTION:
URL:https://www.wellsvillecc.com/event/dresser-rand-6/
END:VEVENT
BEGIN:VEVENT
DTSTART;TZID=America/New_York:20170607T090000
DTEND;TZID=America/New_York:20170607T090000
DTSTAMP:20260425T101343
CREATED:20170425T150121Z
LAST-MODIFIED:20170425T150121Z
UID:668-1496826000-1496826000@www.wellsvillecc.com
SUMMARY:LGA
DESCRIPTION:
URL:https://www.wellsvillecc.com/event/lga-5/
END:VEVENT
BEGIN:VEVENT
DTSTART;TZID=America/New_York:20170606T000000
DTEND;TZID=America/New_York:20170606T000000
DTSTAMP:20260425T101343
CREATED:20170425T150121Z
LAST-MODIFIED:20170425T150121Z
UID:667-1496707200-1496707200@www.wellsvillecc.com
SUMMARY:MGA
DESCRIPTION:
URL:https://www.wellsvillecc.com/event/mga-5/
END:VEVENT
BEGIN:VEVENT
DTSTART;TZID=America/New_York:20170605T173000
DTEND;TZID=America/New_York:20170605T173000
DTSTAMP:20260425T101343
CREATED:20170425T150120Z
LAST-MODIFIED:20170425T150120Z
UID:666-1496683800-1496683800@www.wellsvillecc.com
SUMMARY:Monday Funday
DESCRIPTION:
URL:https://www.wellsvillecc.com/event/monday-funday/
END:VEVENT
BEGIN:VEVENT
DTSTART;TZID=America/New_York:20170604T000000
DTEND;TZID=America/New_York:20170604T000000
DTSTAMP:20260425T101343
CREATED:20170425T150120Z
LAST-MODIFIED:20170425T150120Z
UID:665-1496534400-1496534400@www.wellsvillecc.com
SUMMARY:Erkie Open Mark Long - 10am tee times
DESCRIPTION:
URL:https://www.wellsvillecc.com/event/erkie-open-mark-long-10am-tee-times/
END:VEVENT
BEGIN:VEVENT
DTSTART;TZID=America/New_York:20170602T133000
DTEND;TZID=America/New_York:20170602T133000
DTSTAMP:20260425T101343
CREATED:20170425T150120Z
LAST-MODIFIED:20170425T150120Z
UID:664-1496410200-1496410200@www.wellsvillecc.com
SUMMARY:United Way
DESCRIPTION:
URL:https://www.wellsvillecc.com/event/united-way/
END:VEVENT
BEGIN:VEVENT
DTSTART;TZID=America/New_York:20170601T173000
DTEND;TZID=America/New_York:20170601T173000
DTSTAMP:20260425T101343
CREATED:20170425T150120Z
LAST-MODIFIED:20170425T150120Z
UID:663-1496338200-1496338200@www.wellsvillecc.com
SUMMARY:Thirsty Thursday Start
DESCRIPTION:
URL:https://www.wellsvillecc.com/event/thirsty-thursday-start/
END:VEVENT
BEGIN:VEVENT
DTSTART;TZID=America/New_York:20170531T153000
DTEND;TZID=America/New_York:20170531T153000
DTSTAMP:20260425T101343
CREATED:20170425T150120Z
LAST-MODIFIED:20170425T150120Z
UID:662-1496244600-1496244600@www.wellsvillecc.com
SUMMARY:Dresser Rand
DESCRIPTION:
URL:https://www.wellsvillecc.com/event/dresser-rand-5/
END:VEVENT
BEGIN:VEVENT
DTSTART;TZID=America/New_York:20170531T100000
DTEND;TZID=America/New_York:20170531T100000
DTSTAMP:20260425T101343
CREATED:20170425T150119Z
LAST-MODIFIED:20170425T150119Z
UID:661-1496224800-1496224800@www.wellsvillecc.com
SUMMARY:LGA
DESCRIPTION:
URL:https://www.wellsvillecc.com/event/lga-4/
END:VEVENT
BEGIN:VEVENT
DTSTART;TZID=America/New_York:20170530T000000
DTEND;TZID=America/New_York:20170530T000000
DTSTAMP:20260425T101343
CREATED:20170425T150119Z
LAST-MODIFIED:20170425T150119Z
UID:660-1496102400-1496102400@www.wellsvillecc.com
SUMMARY:MGA
DESCRIPTION:
URL:https://www.wellsvillecc.com/event/mga-4/
END:VEVENT
BEGIN:VEVENT
DTSTART;TZID=America/New_York:20170528T000000
DTEND;TZID=America/New_York:20170528T000000
DTSTAMP:20260425T101343
CREATED:20170425T150119Z
LAST-MODIFIED:20170425T150119Z
UID:659-1495929600-1495929600@www.wellsvillecc.com
SUMMARY:MGA Memorial Day Event - am tee times
DESCRIPTION:
URL:https://www.wellsvillecc.com/event/mga-memorial-day-event-am-tee-times/
END:VEVENT
BEGIN:VEVENT
DTSTART;TZID=America/New_York:20170525T173000
DTEND;TZID=America/New_York:20170525T173000
DTSTAMP:20260425T101343
CREATED:20170425T150119Z
LAST-MODIFIED:20170425T150119Z
UID:658-1495733400-1495733400@www.wellsvillecc.com
SUMMARY:Thirsty Thursday Prac. Round Info Meet
DESCRIPTION:
URL:https://www.wellsvillecc.com/event/thirsty-thursday-prac-round-info-meet/
END:VEVENT
BEGIN:VEVENT
DTSTART;TZID=America/New_York:20170524T153000
DTEND;TZID=America/New_York:20170524T153000
DTSTAMP:20260425T101343
CREATED:20170425T150119Z
LAST-MODIFIED:20170425T150119Z
UID:657-1495639800-1495639800@www.wellsvillecc.com
SUMMARY:Dresser Rand
DESCRIPTION:
URL:https://www.wellsvillecc.com/event/dresser-rand-4/
END:VEVENT
BEGIN:VEVENT
DTSTART;TZID=America/New_York:20170524T100000
DTEND;TZID=America/New_York:20170524T100000
DTSTAMP:20260425T101343
CREATED:20170425T150119Z
LAST-MODIFIED:20170425T150119Z
UID:656-1495620000-1495620000@www.wellsvillecc.com
SUMMARY:LGA
DESCRIPTION:
URL:https://www.wellsvillecc.com/event/lga-3/
END:VEVENT
BEGIN:VEVENT
DTSTART;TZID=America/New_York:20170523T000000
DTEND;TZID=America/New_York:20170523T000000
DTSTAMP:20260425T101343
CREATED:20170425T150118Z
LAST-MODIFIED:20170425T150118Z
UID:655-1495497600-1495497600@www.wellsvillecc.com
SUMMARY:MGA
DESCRIPTION:
URL:https://www.wellsvillecc.com/event/mga-3/
END:VEVENT
BEGIN:VEVENT
DTSTART;TZID=America/New_York:20170522T173000
DTEND;TZID=America/New_York:20170522T173000
DTSTAMP:20260425T101343
CREATED:20170425T150118Z
LAST-MODIFIED:20170425T150118Z
UID:654-1495474200-1495474200@www.wellsvillecc.com
SUMMARY:Monday Funday play begins
DESCRIPTION:
URL:https://www.wellsvillecc.com/event/monday-funday-play-begins/
END:VEVENT
BEGIN:VEVENT
DTSTART;TZID=America/New_York:20170519T000000
DTEND;TZID=America/New_York:20170519T000000
DTSTAMP:20260425T101343
CREATED:20170425T150118Z
LAST-MODIFIED:20170425T150118Z
UID:653-1495152000-1495152000@www.wellsvillecc.com
SUMMARY:Stag Day/Guest day - 1pm shotgun
DESCRIPTION:
URL:https://www.wellsvillecc.com/event/stag-dayguest-day-1pm-shotgun/
END:VEVENT
BEGIN:VEVENT
DTSTART;TZID=America/New_York:20170517T153000
DTEND;TZID=America/New_York:20170517T153000
DTSTAMP:20260425T101343
CREATED:20170425T150118Z
LAST-MODIFIED:20170425T150118Z
UID:652-1495035000-1495035000@www.wellsvillecc.com
SUMMARY:Dresser Rand
DESCRIPTION:
URL:https://www.wellsvillecc.com/event/dresser-rand-3/
END:VEVENT
BEGIN:VEVENT
DTSTART;TZID=America/New_York:20170517T100000
DTEND;TZID=America/New_York:20170517T100000
DTSTAMP:20260425T101343
CREATED:20170425T150118Z
LAST-MODIFIED:20170425T150118Z
UID:651-1495015200-1495015200@www.wellsvillecc.com
SUMMARY:LGA
DESCRIPTION:
URL:https://www.wellsvillecc.com/event/lga-2/
END:VEVENT
BEGIN:VEVENT
DTSTART;TZID=America/New_York:20170516T000000
DTEND;TZID=America/New_York:20170516T000000
DTSTAMP:20260425T101343
CREATED:20170425T150117Z
LAST-MODIFIED:20170425T150117Z
UID:650-1494892800-1494892800@www.wellsvillecc.com
SUMMARY:MGA
DESCRIPTION:
URL:https://www.wellsvillecc.com/event/mga-2/
END:VEVENT
BEGIN:VEVENT
DTSTART;TZID=America/New_York:20170515T170000
DTEND;TZID=America/New_York:20170515T170000
DTSTAMP:20260425T101343
CREATED:20170425T150117Z
LAST-MODIFIED:20170425T150117Z
UID:648-1494867600-1494867600@www.wellsvillecc.com
SUMMARY:Monday Funday clinic 3
DESCRIPTION:
URL:https://www.wellsvillecc.com/event/monday-funday-clinic-3/
END:VEVENT
BEGIN:VEVENT
DTSTART;TZID=America/New_York:20170515T100000
DTEND;TZID=America/New_York:20170515T100000
DTSTAMP:20260425T101343
CREATED:20170425T150117Z
LAST-MODIFIED:20170425T150117Z
UID:649-1494842400-1494842400@www.wellsvillecc.com
SUMMARY:High school 18 hole qualifier
DESCRIPTION:
URL:https://www.wellsvillecc.com/event/high-school-18-hole-qualifier/
END:VEVENT
BEGIN:VEVENT
DTSTART;TZID=America/New_York:20170513T133000
DTEND;TZID=America/New_York:20170513T133000
DTSTAMP:20260425T101343
CREATED:20170425T150117Z
LAST-MODIFIED:20170425T150117Z
UID:647-1494682200-1494682200@www.wellsvillecc.com
SUMMARY:Dave Sheppard
DESCRIPTION:
URL:https://www.wellsvillecc.com/event/dave-sheppard/
END:VEVENT
BEGIN:VEVENT
DTSTART;TZID=America/New_York:20170513T083000
DTEND;TZID=America/New_York:20170513T083000
DTSTAMP:20260425T101343
CREATED:20170425T150117Z
LAST-MODIFIED:20170425T150117Z
UID:646-1494664200-1494664200@www.wellsvillecc.com
SUMMARY:MGA Spring Open 4man 2 bestball
DESCRIPTION:
URL:https://www.wellsvillecc.com/event/mga-spring-open-4man-2-bestball/
END:VEVENT
BEGIN:VEVENT
DTSTART;TZID=America/New_York:20170510T160000
DTEND;TZID=America/New_York:20170510T160000
DTSTAMP:20260425T101343
CREATED:20170425T150116Z
LAST-MODIFIED:20170425T150116Z
UID:644-1494432000-1494432000@www.wellsvillecc.com
SUMMARY:H.S. Golf match
DESCRIPTION:
URL:https://www.wellsvillecc.com/event/h-s-golf-match-7/
END:VEVENT
BEGIN:VEVENT
DTSTART;TZID=America/New_York:20170510T153000
DTEND;TZID=America/New_York:20170510T153000
DTSTAMP:20260425T101343
CREATED:20170425T150116Z
LAST-MODIFIED:20170425T150116Z
UID:645-1494430200-1494430200@www.wellsvillecc.com
SUMMARY:Dresser Rand
DESCRIPTION:
URL:https://www.wellsvillecc.com/event/dresser-rand-2/
END:VEVENT
END:VCALENDAR