BEGIN:VCALENDAR
VERSION:2.0
PRODID:-//Wellsville Country Club - ECPv6.15.17//NONSGML v1.0//EN
CALSCALE:GREGORIAN
METHOD:PUBLISH
X-ORIGINAL-URL:https://www.wellsvillecc.com
X-WR-CALDESC:Events for Wellsville Country Club
REFRESH-INTERVAL;VALUE=DURATION:PT1H
X-Robots-Tag:noindex
X-PUBLISHED-TTL:PT1H
BEGIN:VTIMEZONE
TZID:America/New_York
BEGIN:DAYLIGHT
TZOFFSETFROM:-0500
TZOFFSETTO:-0400
TZNAME:EDT
DTSTART:20160313T070000
END:DAYLIGHT
BEGIN:STANDARD
TZOFFSETFROM:-0400
TZOFFSETTO:-0500
TZNAME:EST
DTSTART:20161106T060000
END:STANDARD
BEGIN:DAYLIGHT
TZOFFSETFROM:-0500
TZOFFSETTO:-0400
TZNAME:EDT
DTSTART:20170312T070000
END:DAYLIGHT
BEGIN:STANDARD
TZOFFSETFROM:-0400
TZOFFSETTO:-0500
TZNAME:EST
DTSTART:20171105T060000
END:STANDARD
BEGIN:DAYLIGHT
TZOFFSETFROM:-0500
TZOFFSETTO:-0400
TZNAME:EDT
DTSTART:20180311T070000
END:DAYLIGHT
BEGIN:STANDARD
TZOFFSETFROM:-0400
TZOFFSETTO:-0500
TZNAME:EST
DTSTART:20181104T060000
END:STANDARD
BEGIN:DAYLIGHT
TZOFFSETFROM:-0500
TZOFFSETTO:-0400
TZNAME:EDT
DTSTART:20190310T070000
END:DAYLIGHT
BEGIN:STANDARD
TZOFFSETFROM:-0400
TZOFFSETTO:-0500
TZNAME:EST
DTSTART:20191103T060000
END:STANDARD
BEGIN:DAYLIGHT
TZOFFSETFROM:-0500
TZOFFSETTO:-0400
TZNAME:EDT
DTSTART:20200308T070000
END:DAYLIGHT
BEGIN:STANDARD
TZOFFSETFROM:-0400
TZOFFSETTO:-0500
TZNAME:EST
DTSTART:20201101T060000
END:STANDARD
BEGIN:DAYLIGHT
TZOFFSETFROM:-0500
TZOFFSETTO:-0400
TZNAME:EDT
DTSTART:20210314T070000
END:DAYLIGHT
BEGIN:STANDARD
TZOFFSETFROM:-0400
TZOFFSETTO:-0500
TZNAME:EST
DTSTART:20211107T060000
END:STANDARD
END:VTIMEZONE
BEGIN:VEVENT
DTSTART;TZID=America/New_York:20200214T180000
DTEND;TZID=America/New_York:20200214T220000
DTSTAMP:20260424T160022
CREATED:20200210T204841Z
LAST-MODIFIED:20200210T204841Z
UID:1138-1581703200-1581717600@www.wellsvillecc.com
SUMMARY:WCC Valentine's Dinner & Music
DESCRIPTION:
URL:https://www.wellsvillecc.com/event/wcc-valentines-dinner-music/
END:VEVENT
BEGIN:VEVENT
DTSTART;TZID=America/New_York:20200212T180000
DTEND;TZID=America/New_York:20200212T200000
DTSTAMP:20260424T160022
CREATED:20200210T204717Z
LAST-MODIFIED:20200210T204717Z
UID:1136-1581530400-1581537600@www.wellsvillecc.com
SUMMARY:Winter Wednesday Happy Hour
DESCRIPTION:
URL:https://www.wellsvillecc.com/event/winter-wednesday-happy-hour/
END:VEVENT
BEGIN:VEVENT
DTSTART;TZID=America/New_York:20200212T120000
DTEND;TZID=America/New_York:20200212T133000
DTSTAMP:20260424T160022
CREATED:20200210T204623Z
LAST-MODIFIED:20200210T204623Z
UID:1134-1581508800-1581514200@www.wellsvillecc.com
SUMMARY:Hemlock Twigs
DESCRIPTION:
URL:https://www.wellsvillecc.com/event/hemlock-twigs/
END:VEVENT
BEGIN:VEVENT
DTSTART;TZID=America/New_York:20200211T120000
DTEND;TZID=America/New_York:20200211T133000
DTSTAMP:20260424T160022
CREATED:20200210T204434Z
LAST-MODIFIED:20230227T135938Z
UID:1132-1581422400-1581427800@www.wellsvillecc.com
SUMMARY:Highway Supers Luncheon
DESCRIPTION:
URL:https://www.wellsvillecc.com/event/highway-supers-luncheon/
END:VEVENT
BEGIN:VEVENT
DTSTART;TZID=America/New_York:20181121T200000
DTEND;TZID=America/New_York:20181121T230000
DTSTAMP:20260424T160022
CREATED:20181105T153352Z
LAST-MODIFIED:20181105T153352Z
UID:938-1542830400-1542841200@www.wellsvillecc.com
SUMMARY:Thanksgiving Eve & DJ Marsh
DESCRIPTION:
URL:https://www.wellsvillecc.com/event/thanksgiving-eve-dj-marsh/
END:VEVENT
BEGIN:VEVENT
DTSTART;TZID=America/New_York:20181110T120000
DTEND;TZID=America/New_York:20181110T220000
DTSTAMP:20260424T160022
CREATED:20181105T152937Z
LAST-MODIFIED:20181105T152937Z
UID:935-1541851200-1541887200@www.wellsvillecc.com
SUMMARY:Dr Graham Memorial 5k Run & Dinner
DESCRIPTION:
URL:https://www.wellsvillecc.com/event/dr-graham-memorial-5k-run-dinner/
END:VEVENT
BEGIN:VEVENT
DTSTART;TZID=America/New_York:20170927T100000
DTEND;TZID=America/New_York:20170927T100000
DTSTAMP:20260424T160022
CREATED:20170425T150145Z
LAST-MODIFIED:20170628T010415Z
UID:785-1506506400-1506506400@www.wellsvillecc.com
SUMMARY:LGA 27 holers and Dresser Rand
DESCRIPTION:
URL:https://www.wellsvillecc.com/event/lga-21/
END:VEVENT
BEGIN:VEVENT
DTSTART;TZID=America/New_York:20170926T000000
DTEND;TZID=America/New_York:20170926T000000
DTSTAMP:20260424T160022
CREATED:20170425T150145Z
LAST-MODIFIED:20170425T150145Z
UID:784-1506384000-1506384000@www.wellsvillecc.com
SUMMARY:MGA
DESCRIPTION:
URL:https://www.wellsvillecc.com/event/mga-16/
END:VEVENT
BEGIN:VEVENT
DTSTART;TZID=America/New_York:20170923T133000
DTEND;TZID=America/New_York:20170923T133000
DTSTAMP:20260424T160022
CREATED:20170425T150145Z
LAST-MODIFIED:20170425T150145Z
UID:783-1506173400-1506173400@www.wellsvillecc.com
SUMMARY:Dresser Rand Fall Final Outing
DESCRIPTION:
URL:https://www.wellsvillecc.com/event/dresser-rand-fall-final-outing/
END:VEVENT
BEGIN:VEVENT
DTSTART;TZID=America/New_York:20170922T000000
DTEND;TZID=America/New_York:20170922T000000
DTSTAMP:20260424T160022
CREATED:20170425T150145Z
LAST-MODIFIED:20170425T150145Z
UID:782-1506038400-1506038400@www.wellsvillecc.com
SUMMARY:Wlsv 1-Day Member/Guest ?
DESCRIPTION:
URL:https://www.wellsvillecc.com/event/wlsv-1-day-memberguest/
END:VEVENT
BEGIN:VEVENT
DTSTART;TZID=America/New_York:20170920T153000
DTEND;TZID=America/New_York:20170920T153000
DTSTAMP:20260424T160022
CREATED:20170425T150144Z
LAST-MODIFIED:20170425T150144Z
UID:781-1505921400-1505921400@www.wellsvillecc.com
SUMMARY:Dresser Rand
DESCRIPTION:
URL:https://www.wellsvillecc.com/event/dresser-rand-20/
END:VEVENT
BEGIN:VEVENT
DTSTART;TZID=America/New_York:20170920T100000
DTEND;TZID=America/New_York:20170920T100000
DTSTAMP:20260424T160022
CREATED:20170425T150144Z
LAST-MODIFIED:20170425T150144Z
UID:780-1505901600-1505901600@www.wellsvillecc.com
SUMMARY:LGA
DESCRIPTION:
URL:https://www.wellsvillecc.com/event/lga-20/
END:VEVENT
BEGIN:VEVENT
DTSTART;TZID=America/New_York:20170919T000000
DTEND;TZID=America/New_York:20170919T000000
DTSTAMP:20260424T160022
CREATED:20170425T150144Z
LAST-MODIFIED:20170425T150144Z
UID:779-1505779200-1505779200@www.wellsvillecc.com
SUMMARY:MGA
DESCRIPTION:
URL:https://www.wellsvillecc.com/event/mga-15/
END:VEVENT
BEGIN:VEVENT
DTSTART;TZID=America/New_York:20170916T000000
DTEND;TZID=America/New_York:20170916T000000
DTSTAMP:20260424T160022
CREATED:20170425T150144Z
LAST-MODIFIED:20170425T150144Z
UID:778-1505520000-1505520000@www.wellsvillecc.com
SUMMARY:MGA 27 hole event - shotgun
DESCRIPTION:
URL:https://www.wellsvillecc.com/event/mga-27-hole-event-shotgun/
END:VEVENT
BEGIN:VEVENT
DTSTART;TZID=America/New_York:20170915T153000
DTEND;TZID=America/New_York:20170915T153000
DTSTAMP:20260424T160022
CREATED:20170425T150144Z
LAST-MODIFIED:20170425T150144Z
UID:777-1505489400-1505489400@www.wellsvillecc.com
SUMMARY:Dave Buckley
DESCRIPTION:
URL:https://www.wellsvillecc.com/event/dave-buckley/
END:VEVENT
BEGIN:VEVENT
DTSTART;TZID=America/New_York:20170914T000000
DTEND;TZID=America/New_York:20170914T000000
DTSTAMP:20260424T160022
CREATED:20170425T150143Z
LAST-MODIFIED:20170425T150143Z
UID:776-1505347200-1505347200@www.wellsvillecc.com
SUMMARY:Thirsty Thursday Play Off
DESCRIPTION:
URL:https://www.wellsvillecc.com/event/thirsty-thursday-play-off-2/
END:VEVENT
BEGIN:VEVENT
DTSTART;TZID=America/New_York:20170913T153000
DTEND;TZID=America/New_York:20170913T153000
DTSTAMP:20260424T160022
CREATED:20170425T150143Z
LAST-MODIFIED:20170425T150143Z
UID:775-1505316600-1505316600@www.wellsvillecc.com
SUMMARY:Dresser Rand
DESCRIPTION:
URL:https://www.wellsvillecc.com/event/dresser-rand-19/
END:VEVENT
BEGIN:VEVENT
DTSTART;TZID=America/New_York:20170913T100000
DTEND;TZID=America/New_York:20170913T100000
DTSTAMP:20260424T160022
CREATED:20170425T150143Z
LAST-MODIFIED:20170425T150143Z
UID:774-1505296800-1505296800@www.wellsvillecc.com
SUMMARY:LGA
DESCRIPTION:
URL:https://www.wellsvillecc.com/event/lga-19/
END:VEVENT
BEGIN:VEVENT
DTSTART;TZID=America/New_York:20170912T000000
DTEND;TZID=America/New_York:20170912T000000
DTSTAMP:20260424T160022
CREATED:20170425T150143Z
LAST-MODIFIED:20170425T150143Z
UID:773-1505174400-1505174400@www.wellsvillecc.com
SUMMARY:MGA Stag
DESCRIPTION:
URL:https://www.wellsvillecc.com/event/mga-stag/
END:VEVENT
BEGIN:VEVENT
DTSTART;TZID=America/New_York:20170911T173000
DTEND;TZID=America/New_York:20170911T173000
DTSTAMP:20260424T160022
CREATED:20170425T150143Z
LAST-MODIFIED:20170425T150143Z
UID:772-1505151000-1505151000@www.wellsvillecc.com
SUMMARY:Monday Funday Last Night
DESCRIPTION:
URL:https://www.wellsvillecc.com/event/monday-funday-last-night/
END:VEVENT
BEGIN:VEVENT
DTSTART;TZID=America/New_York:20170909T133000
DTEND;TZID=America/New_York:20170909T133000
DTSTAMP:20260424T160022
CREATED:20170425T150142Z
LAST-MODIFIED:20170425T150142Z
UID:771-1504963800-1504963800@www.wellsvillecc.com
SUMMARY:American Legion Mens
DESCRIPTION:
URL:https://www.wellsvillecc.com/event/american-legion-mens/
END:VEVENT
BEGIN:VEVENT
DTSTART;TZID=America/New_York:20170907T000000
DTEND;TZID=America/New_York:20170907T000000
DTSTAMP:20260424T160022
CREATED:20170425T150142Z
LAST-MODIFIED:20170425T150142Z
UID:770-1504742400-1504742400@www.wellsvillecc.com
SUMMARY:Thirsty Thursday Play Off
DESCRIPTION:
URL:https://www.wellsvillecc.com/event/thirsty-thursday-play-off/
END:VEVENT
BEGIN:VEVENT
DTSTART;TZID=America/New_York:20170906T153000
DTEND;TZID=America/New_York:20170906T153000
DTSTAMP:20260424T160022
CREATED:20170425T150142Z
LAST-MODIFIED:20170425T150142Z
UID:769-1504711800-1504711800@www.wellsvillecc.com
SUMMARY:Dresser Rand
DESCRIPTION:
URL:https://www.wellsvillecc.com/event/dresser-rand-18/
END:VEVENT
BEGIN:VEVENT
DTSTART;TZID=America/New_York:20170906T100000
DTEND;TZID=America/New_York:20170906T100000
DTSTAMP:20260424T160022
CREATED:20170425T150142Z
LAST-MODIFIED:20170425T150142Z
UID:768-1504692000-1504692000@www.wellsvillecc.com
SUMMARY:LGA
DESCRIPTION:
URL:https://www.wellsvillecc.com/event/lga-18/
END:VEVENT
BEGIN:VEVENT
DTSTART;TZID=America/New_York:20170905T000000
DTEND;TZID=America/New_York:20170905T000000
DTSTAMP:20260424T160022
CREATED:20170425T150142Z
LAST-MODIFIED:20170425T150142Z
UID:767-1504569600-1504569600@www.wellsvillecc.com
SUMMARY:MGA
DESCRIPTION:
URL:https://www.wellsvillecc.com/event/mga-14/
END:VEVENT
BEGIN:VEVENT
DTSTART;TZID=America/New_York:20170903T000000
DTEND;TZID=America/New_York:20170903T000000
DTSTAMP:20260424T160022
CREATED:20170425T150141Z
LAST-MODIFIED:20170425T150141Z
UID:766-1504396800-1504396800@www.wellsvillecc.com
SUMMARY:MGA labor day tourney
DESCRIPTION:
URL:https://www.wellsvillecc.com/event/mga-labor-day-tourney/
END:VEVENT
BEGIN:VEVENT
DTSTART;TZID=America/New_York:20170831T173000
DTEND;TZID=America/New_York:20170831T173000
DTSTAMP:20260424T160022
CREATED:20170425T150141Z
LAST-MODIFIED:20170425T150141Z
UID:765-1504200600-1504200600@www.wellsvillecc.com
SUMMARY:Thirsty Thursday
DESCRIPTION:
URL:https://www.wellsvillecc.com/event/thirsty-thursday-10/
END:VEVENT
BEGIN:VEVENT
DTSTART;TZID=America/New_York:20170829T090000
DTEND;TZID=America/New_York:20170829T090000
DTSTAMP:20260424T160022
CREATED:20170425T150141Z
LAST-MODIFIED:20170425T150141Z
UID:763-1503997200-1503997200@www.wellsvillecc.com
SUMMARY:LGA
DESCRIPTION:
URL:https://www.wellsvillecc.com/event/lga-17/
END:VEVENT
BEGIN:VEVENT
DTSTART;TZID=America/New_York:20170828T173000
DTEND;TZID=America/New_York:20170828T173000
DTSTAMP:20260424T160022
CREATED:20170425T150140Z
LAST-MODIFIED:20170425T150140Z
UID:762-1503941400-1503941400@www.wellsvillecc.com
SUMMARY:Monday Funday
DESCRIPTION:
URL:https://www.wellsvillecc.com/event/monday-funday-12/
END:VEVENT
BEGIN:VEVENT
DTSTART;TZID=America/New_York:20170828T000000
DTEND;TZID=America/New_York:20170828T000000
DTSTAMP:20260424T160022
CREATED:20170425T150140Z
LAST-MODIFIED:20170425T150140Z
UID:761-1503878400-1503878400@www.wellsvillecc.com
SUMMARY:Greens Aerification - COURSE CLOSED
DESCRIPTION:
URL:https://www.wellsvillecc.com/event/greens-aerification-course-closed/
END:VEVENT
END:VCALENDAR