BEGIN:VCALENDAR
VERSION:2.0
PRODID:-//Wellsville Country Club - ECPv6.15.17//NONSGML v1.0//EN
CALSCALE:GREGORIAN
METHOD:PUBLISH
X-ORIGINAL-URL:https://www.wellsvillecc.com
X-WR-CALDESC:Events for Wellsville Country Club
REFRESH-INTERVAL;VALUE=DURATION:PT1H
X-Robots-Tag:noindex
X-PUBLISHED-TTL:PT1H
BEGIN:VTIMEZONE
TZID:America/New_York
BEGIN:DAYLIGHT
TZOFFSETFROM:-0500
TZOFFSETTO:-0400
TZNAME:EDT
DTSTART:20160313T070000
END:DAYLIGHT
BEGIN:STANDARD
TZOFFSETFROM:-0400
TZOFFSETTO:-0500
TZNAME:EST
DTSTART:20161106T060000
END:STANDARD
BEGIN:DAYLIGHT
TZOFFSETFROM:-0500
TZOFFSETTO:-0400
TZNAME:EDT
DTSTART:20170312T070000
END:DAYLIGHT
BEGIN:STANDARD
TZOFFSETFROM:-0400
TZOFFSETTO:-0500
TZNAME:EST
DTSTART:20171105T060000
END:STANDARD
BEGIN:DAYLIGHT
TZOFFSETFROM:-0500
TZOFFSETTO:-0400
TZNAME:EDT
DTSTART:20180311T070000
END:DAYLIGHT
BEGIN:STANDARD
TZOFFSETFROM:-0400
TZOFFSETTO:-0500
TZNAME:EST
DTSTART:20181104T060000
END:STANDARD
END:VTIMEZONE
BEGIN:VEVENT
DTSTART;TZID=America/New_York:20170810T173000
DTEND;TZID=America/New_York:20170810T173000
DTSTAMP:20260425T002704
CREATED:20170425T150136Z
LAST-MODIFIED:20170425T150136Z
UID:741-1502386200-1502386200@www.wellsvillecc.com
SUMMARY:Thirsty Thursday
DESCRIPTION:
URL:https://www.wellsvillecc.com/event/thirsty-thursday-7/
END:VEVENT
BEGIN:VEVENT
DTSTART;TZID=America/New_York:20170809T153000
DTEND;TZID=America/New_York:20170809T153000
DTSTAMP:20260425T002704
CREATED:20170425T150136Z
LAST-MODIFIED:20170425T150136Z
UID:739-1502292600-1502292600@www.wellsvillecc.com
SUMMARY:Dresser Rand
DESCRIPTION:
URL:https://www.wellsvillecc.com/event/dresser-rand-14/
END:VEVENT
BEGIN:VEVENT
DTSTART;TZID=America/New_York:20170809T090000
DTEND;TZID=America/New_York:20170809T090000
DTSTAMP:20260425T002704
CREATED:20170425T150135Z
LAST-MODIFIED:20170628T004710Z
UID:738-1502269200-1502269200@www.wellsvillecc.com
SUMMARY:LGA Member/Member
DESCRIPTION:
URL:https://www.wellsvillecc.com/event/lga-14/
END:VEVENT
BEGIN:VEVENT
DTSTART;TZID=America/New_York:20170808T000000
DTEND;TZID=America/New_York:20170808T000000
DTSTAMP:20260425T002704
CREATED:20170425T150135Z
LAST-MODIFIED:20170425T150135Z
UID:737-1502150400-1502150400@www.wellsvillecc.com
SUMMARY:MGA
DESCRIPTION:
URL:https://www.wellsvillecc.com/event/mga-12/
END:VEVENT
BEGIN:VEVENT
DTSTART;TZID=America/New_York:20170807T173000
DTEND;TZID=America/New_York:20170807T173000
DTSTAMP:20260425T002704
CREATED:20170425T150135Z
LAST-MODIFIED:20170425T150135Z
UID:736-1502127000-1502127000@www.wellsvillecc.com
SUMMARY:Monday Funday
DESCRIPTION:
URL:https://www.wellsvillecc.com/event/monday-funday-9/
END:VEVENT
BEGIN:VEVENT
DTSTART;TZID=America/New_York:20170805T093000
DTEND;TZID=America/New_York:20170805T093000
DTSTAMP:20260425T002704
CREATED:20170425T150135Z
LAST-MODIFIED:20170425T150135Z
UID:735-1501925400-1501925400@www.wellsvillecc.com
SUMMARY:Member/Guest
DESCRIPTION:
URL:https://www.wellsvillecc.com/event/memberguest-2/
END:VEVENT
BEGIN:VEVENT
DTSTART;TZID=America/New_York:20170804T130000
DTEND;TZID=America/New_York:20170804T130000
DTSTAMP:20260425T002704
CREATED:20170425T150135Z
LAST-MODIFIED:20170425T150135Z
UID:734-1501851600-1501851600@www.wellsvillecc.com
SUMMARY:Member/Guest
DESCRIPTION:
URL:https://www.wellsvillecc.com/event/memberguest/
END:VEVENT
BEGIN:VEVENT
DTSTART;TZID=America/New_York:20170803T130000
DTEND;TZID=America/New_York:20170803T130000
DTSTAMP:20260425T002704
CREATED:20170425T150134Z
LAST-MODIFIED:20170425T150134Z
UID:733-1501765200-1501765200@www.wellsvillecc.com
SUMMARY:Member Event Practice Round
DESCRIPTION:
URL:https://www.wellsvillecc.com/event/member-event-practice-round/
END:VEVENT
BEGIN:VEVENT
DTSTART;TZID=America/New_York:20170802T153000
DTEND;TZID=America/New_York:20170802T153000
DTSTAMP:20260425T002704
CREATED:20170425T150134Z
LAST-MODIFIED:20170425T150134Z
UID:731-1501687800-1501687800@www.wellsvillecc.com
SUMMARY:Dresser Rand
DESCRIPTION:
URL:https://www.wellsvillecc.com/event/dresser-rand-13/
END:VEVENT
BEGIN:VEVENT
DTSTART;TZID=America/New_York:20170802T090000
DTEND;TZID=America/New_York:20170802T090000
DTSTAMP:20260425T002704
CREATED:20170425T150134Z
LAST-MODIFIED:20170628T004624Z
UID:730-1501664400-1501664400@www.wellsvillecc.com
SUMMARY:LGA Member Guest
DESCRIPTION:
URL:https://www.wellsvillecc.com/event/lga-13/
END:VEVENT
BEGIN:VEVENT
DTSTART;TZID=America/New_York:20170801T000000
DTEND;TZID=America/New_York:20170801T000000
DTSTAMP:20260425T002704
CREATED:20170425T150133Z
LAST-MODIFIED:20170628T004602Z
UID:729-1501545600-1501545600@www.wellsvillecc.com
SUMMARY:MGA & LGA M/G Practice Round
DESCRIPTION:
URL:https://www.wellsvillecc.com/event/mga-11/
END:VEVENT
BEGIN:VEVENT
DTSTART;TZID=America/New_York:20170731T173000
DTEND;TZID=America/New_York:20170731T173000
DTSTAMP:20260425T002704
CREATED:20170425T150133Z
LAST-MODIFIED:20170425T150133Z
UID:728-1501522200-1501522200@www.wellsvillecc.com
SUMMARY:Monday Funday
DESCRIPTION:
URL:https://www.wellsvillecc.com/event/monday-funday-8/
END:VEVENT
BEGIN:VEVENT
DTSTART;TZID=America/New_York:20170729T083000
DTEND;TZID=America/New_York:20170729T083000
DTSTAMP:20260425T002704
CREATED:20170425T150133Z
LAST-MODIFIED:20170425T150133Z
UID:725-1501317000-1501317000@www.wellsvillecc.com
SUMMARY:Sleggs Invite
DESCRIPTION:
URL:https://www.wellsvillecc.com/event/sleggs-invite/
END:VEVENT
BEGIN:VEVENT
DTSTART;TZID=America/New_York:20170729T083000
DTEND;TZID=America/New_York:20170729T083000
DTSTAMP:20260425T002704
CREATED:20170425T150133Z
LAST-MODIFIED:20170425T150133Z
UID:726-1501317000-1501317000@www.wellsvillecc.com
SUMMARY:MGA Trifecta
DESCRIPTION:
URL:https://www.wellsvillecc.com/event/mga-trifecta/
END:VEVENT
BEGIN:VEVENT
DTSTART;TZID=America/New_York:20170727T173000
DTEND;TZID=America/New_York:20170727T173000
DTSTAMP:20260425T002704
CREATED:20170425T150132Z
LAST-MODIFIED:20170425T150132Z
UID:724-1501176600-1501176600@www.wellsvillecc.com
SUMMARY:Thirsty Thursday
DESCRIPTION:
URL:https://www.wellsvillecc.com/event/thirsty-thursday-6/
END:VEVENT
BEGIN:VEVENT
DTSTART;TZID=America/New_York:20170727T090000
DTEND;TZID=America/New_York:20170727T090000
DTSTAMP:20260425T002704
CREATED:20170425T150132Z
LAST-MODIFIED:20170628T004500Z
UID:723-1501146000-1501146000@www.wellsvillecc.com
SUMMARY:LGA Pro Tournament Day 2
DESCRIPTION:
URL:https://www.wellsvillecc.com/event/lga-pro-tournament-day-2/
END:VEVENT
BEGIN:VEVENT
DTSTART;TZID=America/New_York:20170726T153000
DTEND;TZID=America/New_York:20170726T153000
DTSTAMP:20260425T002704
CREATED:20170425T150132Z
LAST-MODIFIED:20170425T150132Z
UID:722-1501083000-1501083000@www.wellsvillecc.com
SUMMARY:Dresser Rand
DESCRIPTION:
URL:https://www.wellsvillecc.com/event/dresser-rand-12/
END:VEVENT
BEGIN:VEVENT
DTSTART;TZID=America/New_York:20170726T090000
DTEND;TZID=America/New_York:20170726T090000
DTSTAMP:20260425T002704
CREATED:20170425T150132Z
LAST-MODIFIED:20170628T004405Z
UID:721-1501059600-1501059600@www.wellsvillecc.com
SUMMARY:LGA Pros Tournament Day 1
DESCRIPTION:
URL:https://www.wellsvillecc.com/event/lga-12/
END:VEVENT
BEGIN:VEVENT
DTSTART;TZID=America/New_York:20170725T000000
DTEND;TZID=America/New_York:20170725T000000
DTSTAMP:20260425T002704
CREATED:20170425T150132Z
LAST-MODIFIED:20170425T150132Z
UID:720-1500940800-1500940800@www.wellsvillecc.com
SUMMARY:MGA
DESCRIPTION:
URL:https://www.wellsvillecc.com/event/mga-10/
END:VEVENT
BEGIN:VEVENT
DTSTART;TZID=America/New_York:20170724T173000
DTEND;TZID=America/New_York:20170724T173000
DTSTAMP:20260425T002704
CREATED:20170425T150131Z
LAST-MODIFIED:20170425T150131Z
UID:719-1500917400-1500917400@www.wellsvillecc.com
SUMMARY:Monday Funday
DESCRIPTION:
URL:https://www.wellsvillecc.com/event/monday-funday-7/
END:VEVENT
BEGIN:VEVENT
DTSTART;TZID=America/New_York:20170723T083000
DTEND;TZID=America/New_York:20170723T103000
DTSTAMP:20260425T002704
CREATED:20170425T150131Z
LAST-MODIFIED:20170716T232203Z
UID:718-1500798600-1500805800@www.wellsvillecc.com
SUMMARY:Senior Stroke Play - am tee times
DESCRIPTION:
URL:https://www.wellsvillecc.com/event/senior-stroke-play-am-tee-times/
END:VEVENT
BEGIN:VEVENT
DTSTART;TZID=America/New_York:20170722T133000
DTEND;TZID=America/New_York:20170722T133000
DTSTAMP:20260425T002704
CREATED:20170425T150131Z
LAST-MODIFIED:20170425T150131Z
UID:717-1500730200-1500730200@www.wellsvillecc.com
SUMMARY:Moose Outting
DESCRIPTION:
URL:https://www.wellsvillecc.com/event/moose-outting/
END:VEVENT
BEGIN:VEVENT
DTSTART;TZID=America/New_York:20170721T110000
DTEND;TZID=America/New_York:20170721T173000
DTSTAMP:20260425T002704
CREATED:20170425T150131Z
LAST-MODIFIED:20170716T232027Z
UID:716-1500634800-1500658200@www.wellsvillecc.com
SUMMARY:Wellsville Pro-Am
DESCRIPTION:
URL:https://www.wellsvillecc.com/event/wellsville-pro-am/
END:VEVENT
BEGIN:VEVENT
DTSTART;TZID=America/New_York:20170720T173000
DTEND;TZID=America/New_York:20170720T173000
DTSTAMP:20260425T002704
CREATED:20170425T150130Z
LAST-MODIFIED:20170425T150130Z
UID:715-1500571800-1500571800@www.wellsvillecc.com
SUMMARY:Thirsty Thursday
DESCRIPTION:
URL:https://www.wellsvillecc.com/event/thirsty-thursday-5/
END:VEVENT
BEGIN:VEVENT
DTSTART;TZID=America/New_York:20170720T103000
DTEND;TZID=America/New_York:20170720T183000
DTSTAMP:20260425T002704
CREATED:20170628T170206Z
LAST-MODIFIED:20170716T231914Z
UID:829-1500546600-1500575400@www.wellsvillecc.com
SUMMARY:Wellsville Chamber of Commerce
DESCRIPTION:
URL:https://www.wellsvillecc.com/event/wellsville-chamber-commerce/
END:VEVENT
BEGIN:VEVENT
DTSTART;TZID=America/New_York:20170719T153000
DTEND;TZID=America/New_York:20170719T153000
DTSTAMP:20260425T002704
CREATED:20170425T150130Z
LAST-MODIFIED:20170425T150130Z
UID:713-1500478200-1500478200@www.wellsvillecc.com
SUMMARY:Dresser Rand
DESCRIPTION:
URL:https://www.wellsvillecc.com/event/dresser-rand-11/
END:VEVENT
BEGIN:VEVENT
DTSTART;TZID=America/New_York:20170719T090000
DTEND;TZID=America/New_York:20170719T090000
DTSTAMP:20260425T002704
CREATED:20170425T150130Z
LAST-MODIFIED:20170628T004244Z
UID:712-1500454800-1500454800@www.wellsvillecc.com
SUMMARY:LGA Ryder Cup/Picnic
DESCRIPTION:
URL:https://www.wellsvillecc.com/event/lga-11/
END:VEVENT
BEGIN:VEVENT
DTSTART;TZID=America/New_York:20170717T173000
DTEND;TZID=America/New_York:20170717T173000
DTSTAMP:20260425T002704
CREATED:20170425T150129Z
LAST-MODIFIED:20170425T150129Z
UID:710-1500312600-1500312600@www.wellsvillecc.com
SUMMARY:Monday Funday
DESCRIPTION:
URL:https://www.wellsvillecc.com/event/monday-funday-6/
END:VEVENT
BEGIN:VEVENT
DTSTART;TZID=America/New_York:20170716T000000
DTEND;TZID=America/New_York:20170716T000000
DTSTAMP:20260425T002704
CREATED:20170425T150129Z
LAST-MODIFIED:20170425T150129Z
UID:709-1500163200-1500163200@www.wellsvillecc.com
SUMMARY:MGA Bill/Charlie Cup - am tee times
DESCRIPTION:
URL:https://www.wellsvillecc.com/event/mga-billcharlie-cup-am-tee-times/
END:VEVENT
BEGIN:VEVENT
DTSTART;TZID=America/New_York:20170715T100000
DTEND;TZID=America/New_York:20170715T100000
DTSTAMP:20260425T002704
CREATED:20170425T150129Z
LAST-MODIFIED:20170425T150129Z
UID:708-1500112800-1500112800@www.wellsvillecc.com
SUMMARY:O'Connor Memorial
DESCRIPTION:
URL:https://www.wellsvillecc.com/event/oconnor-memorial/
END:VEVENT
END:VCALENDAR